BEGIN:VCALENDAR
VERSION:2.0
PRODID:-//San Diego Surfing Hall of Fame - ECPv6.14.0//NONSGML v1.0//EN
CALSCALE:GREGORIAN
METHOD:PUBLISH
X-ORIGINAL-URL:https://sdsurfinghalloffame.com
X-WR-CALDESC:Events for San Diego Surfing Hall of Fame
REFRESH-INTERVAL;VALUE=DURATION:PT1H
X-Robots-Tag:noindex
X-PUBLISHED-TTL:PT1H
BEGIN:VTIMEZONE
TZID:America/Los_Angeles
BEGIN:DAYLIGHT
TZOFFSETFROM:-0800
TZOFFSETTO:-0700
TZNAME:PDT
DTSTART:20250309T100000
END:DAYLIGHT
BEGIN:STANDARD
TZOFFSETFROM:-0700
TZOFFSETTO:-0800
TZNAME:PST
DTSTART:20251102T090000
END:STANDARD
END:VTIMEZONE
BEGIN:VEVENT
DTSTART;TZID=America/Los_Angeles:20251004T070000
DTEND;TZID=America/Los_Angeles:20251004T160000
DTSTAMP:20260420T035220
CREATED:20250726T200540Z
LAST-MODIFIED:20250726T200540Z
UID:2972-1759561200-1759593600@sdsurfinghalloffame.com
SUMMARY:The Menehune Junior Surf Contest: Future Legends Hit the Waves at La Jolla Shores!
DESCRIPTION:The San Diego Surfing Hall of Fame is excited to highlight a cornerstone event for youth surfing in our community: The Menehune Junior Surf Contest! This beloved annual competition\, proudly hosted by the historic WindanSea Surf Club\, is a fantastic opportunity for young surfers to showcase their skills and passion for the ocean. \nDate: Saturday\, October 4th\, 2025 Location: La Jolla Shores\, San Diego\, CA \nThe Menehune Contest is open to all surfers 16 years and under\, providing a supportive and fun environment for the next generation of wave riders. Competitors can enter in both longboard and shortboard divisions for boys and girls\, ensuring a fair and exciting challenge for diverse talents and styles. \nThis event is more than just a competition; it’s a vibrant celebration of youth\, sportsmanship\, and the enduring spirit of surf culture in San Diego. Come cheer on the groms as they paddle out and demonstrate their developing skills and love for the sport! \nImportant Registration Information: \n\nRegistration Deadline: September 26th\, 2025\nRegister Here: https://www.windanseasurfclub.org/menehune-contest\n\nDon’t miss out on seeing the future of San Diego surfing in action at this iconic local spot!
URL:https://sdsurfinghalloffame.com/event/the-menehune-junior-surf-contest-future-legends-hit-the-waves-at-la-jolla-shores/
CATEGORIES:Surf Contests
END:VEVENT
BEGIN:VEVENT
DTSTART;TZID=America/Los_Angeles:20250919T080000
DTEND;TZID=America/Los_Angeles:20250921T170000
DTSTAMP:20260420T035220
CREATED:20250724T145615Z
LAST-MODIFIED:20250724T150202Z
UID:2935-1758268800-1758474000@sdsurfinghalloffame.com
SUMMARY:Super Girl Surf Pro 2025: The World's Largest Women's Surf & Music Festival Returns to Oceanside!
DESCRIPTION:The San Diego Surfing Hall of Fame is thrilled to announce the return of the 19th Annual Super Girl Surf Pro\, a monumental 3-day free festival hitting the beaches of Oceanside\, CA from September 19 – 21\, 2025! Get ready for an action-packed weekend celebrating empowerment\, athleticism\, and the vibrant surf lifestyle. \n\nThis is not just a surf competition; it’s the world’s largest women’s surf competition and music festival\, and the only all-female action sports\, esports\, and lifestyle series globally! Prepare to be amazed by a world-class surfing competition that will truly blow your mind\, set against the stunning backdrop of Oceanside’s iconic coastline. \nBeyond the waves\, immerse yourself in a dynamic festival village loaded with female-inspired vendors\, interactive activities\, and continuous entertainment. The Super Girl Pro Series is a groundbreaking platform that also features major all-women’s skateboarding\, female-driven esports tournaments\, and the world’s only all-female snowboarding competition\, serving as anchors for a festival that includes an incredible array of activities: concerts\, female DJs\, beach soccer\, beach volleyball\, fitness\, yoga\, dance\, fashion showcases\, inspiring speakers\, engaging classes\, beauty activations\, and much more! \n\n15 FREE Concerts Across Three Days! Join us for an unforgettable series of FREE concerts on the SMKFLWR Concert Stage that will keep the good vibes rolling all weekend long! This incredible lineup of talented artists and bands will be rocking the stage right on the beach. All concerts are open to all ages and completely free\, making it a perfect outing for families\, friends\, and music lovers alike. \nCommunity & Cause: The Super Girl Pro proudly partners with vital non-profit organizations. Boarding for Breast Cancer (B4BC)\, a youth-focused breast cancer education and prevention foundation\, has been an event partner since 2007 and will be on-site promoting early detection and healthy lifestyles. Surfrider Foundation\, another long-time event partner\, will be focusing on the mitigation of plastics in our oceans\, beaches\, and waterways\, leading the event’s sustainability initiative. \nDon’t miss out on this unparalleled celebration of women in action sports\, music\, and community spirit! \nFor the full schedule and more event information\, visit: https://supergirlsurfpro.com/event-info/
URL:https://sdsurfinghalloffame.com/event/super-girl-surf-pro-2025-the-worlds-largest-womens-surf-music-festival-returns-to-oceanside/
LOCATION:Oceanside Pier\, 335 The Strand N\, Oceanside\, CA\, 92054\, United States
CATEGORIES:San Diego Surfing Events,Surf Contests
END:VEVENT
BEGIN:VEVENT
DTSTART;TZID=America/Los_Angeles:20250913T070000
DTEND;TZID=America/Los_Angeles:20250913T153000
DTSTAMP:20260420T035220
CREATED:20250723T180350Z
LAST-MODIFIED:20250723T181907Z
UID:2928-1757746800-1757777400@sdsurfinghalloffame.com
SUMMARY:OMBAC Classic Longboard Surfing Contest: A Timeless Celebration of Surf Culture & Community at Crystal Pier!
DESCRIPTION:Content is protected.
URL:https://sdsurfinghalloffame.com/event/ombac-classic-longboard-surfing-contest-a-timeless-celebration-of-surf-culture-community-at-crystal-pier/
LOCATION:Crystal Pier\, 4500 Ocean Blvd\, San Diego\, CA\, 92109\, United States
CATEGORIES:Surf Contests
END:VEVENT
BEGIN:VEVENT
DTSTART;TZID=America/Los_Angeles:20250913T000000
DTEND;TZID=America/Los_Angeles:20250913T235959
DTSTAMP:20260420T035220
CREATED:20250730T160918Z
LAST-MODIFIED:20250730T161746Z
UID:2997-1757721600-1757807999@sdsurfinghalloffame.com
SUMMARY:Solento Surf Festival: Seaside Reef Beach Day Contest by OUTERKNOWN
DESCRIPTION:The San Diego Surfing Hall of Fame is stoked to announce the return of the Solento Surf Festival\, a vibrant\, multi-day celebration hitting Encinitas\, CA from September 13th to 20th\, 2025! Prepare for five days packed with exhilarating surf action\, incredible live music\, captivating films\, and inspiring art\, all dedicated to the essence of surf culture. \n\n  \nKick-Off Party & Surf Comp Extravaganza at Seaside Reef (September 13th)\n  \nThe festival launches with a FREE\, open-to-the-community event at Seaside Reef on September 13\, 2025! Compete\, or enjoy on the beach a truly unique surf contest experience designed for both surfers and spectators. When the last wave is ridden\, the fun continues at the beach bar and stage with live music and entertainment. Plus\, come hungry – and thirsty – your favorite local vendors will be there serving until sunset. \n\nSurf Comp Categories – Diverse Surf Challenges! \n\nThe Countdown Cup (Men’s & Women’s Divisions): Witness incredible surfing as competitors showcase their diverse skills across four different fin set-ups!\n\nRound 1 (Quad Fin): Surfers ride one wave on a quad fin\, top 16 advance.\n\n\nRound 2 (Thruster): One wave on a thruster\, top 8 advance.\n\n\nSemifinal (Twin Fin): Two waves on a twin fin\, top 4 combined scores progress.\nFinal (Single Fin): A 30-minute heat with no wave limit\, best single wave crowned winner.\n\n\nThe United Air Show: Presented by United Airlines\, the winner of this high-flying contest will take home a roundtrip ticket to Australia! Participants are selected from the Countdown Cup\, with the best overall air winning the prize.\nGROMATHON: A super fun and friendly free contest for ages 13 and under! This multi-discipline event combines a beach run\, a paddle\, and a wave. Check-in at the beach marshall by 12:00 PM to compete\, with the contest starting at 1:00 PM. Remember to BYO soft top!\n\n 
URL:https://sdsurfinghalloffame.com/event/solento-surf-festival-seaside-reef-beach-day-contest-by-outerknown/
LOCATION:Seaside Reef\, 2504 S Coast Hwy 101\, Encinitas\, 92007\, United States
CATEGORIES:San Diego Surfing Events,Surf Contests
END:VEVENT
BEGIN:VEVENT
DTSTART;TZID=America/Los_Angeles:20250907T080000
DTEND;TZID=America/Los_Angeles:20250907T080000
DTSTAMP:20260420T035220
CREATED:20250627T183305Z
LAST-MODIFIED:20250627T184838Z
UID:2789-1757232000-1757232000@sdsurfinghalloffame.com
SUMMARY:11th Annual Ken Whalen Surf Challenge
DESCRIPTION:Ken Whalen Surf Challenge: Fostering a Love for Surfing\nDate: Sunday\, September 7th\, 2025 \nTime: Check event website for start time \nLocation: On the beach next to San Fernando Court\, Mission Beach\, CA \nThe San Diego Surfing Hall of Fame is delighted to promote the annual Ken Whalen Surf Challenge\, an event truly dedicated to celebrating Ken’s profound love for family\, surfing\, and the beach. This challenge isn’t just a competition; it’s a vibrant day designed to encourage young surfers\, including CAF adaptive surfers and Rady Children’s Hospital Cancer Families\, to deepen their connection with the ocean through friendly competition and a fun-filled beach day. \nGeared specifically towards beginner and intermediate surfers aged 3 to 14\, the Ken Whalen Surf Challenge emphasizes participation and enjoyment over intense competition. It’s a fantastic opportunity for kids to strengthen their surfing skills\, make new friends\, and build lasting beach memories in a supportive and encouraging environment. \nCome join us for a day of smiles\, waves\, and community spirit\, all focused on igniting and nurturing a lifelong love for surfing. \nRegistration opens August 4th\, 2025. Be sure to sign up early to secure a spot for your young surfer! \n\nEvent Website
URL:https://sdsurfinghalloffame.com/event/11th-annual-ken-whalen-surf-challenge/
LOCATION:San Fernando Court\, 705 San Fernando Court\, San Diego\, 92109\, United States
CATEGORIES:Surf Contests
END:VEVENT
BEGIN:VEVENT
DTSTART;TZID=America/Los_Angeles:20250809T070000
DTEND;TZID=America/Los_Angeles:20250809T070000
DTSTAMP:20260420T035220
CREATED:20250722T154612Z
LAST-MODIFIED:20250722T213829Z
UID:2925-1754722800-1754722800@sdsurfinghalloffame.com
SUMMARY:Gromfest Invitational 2025: OB Pier Gears Up for Youth Surfing & Community Celebration!
DESCRIPTION:Date: Saturday\, August 9th\, 2025 Time: Contest starts sharp at 7:00 AM (usually ends by 4:00 PM). Super Grom heat begins at 11:00 AM. Location: Ocean Beach Pier\, Ocean Beach\, San Diego\, CA \nThe San Diego Surfing Hall of Fame is thrilled to highlight Gromfest 2025\, a beloved annual community event that truly embodies the heart and soul of Ocean Beach and Sunset Cliffs surfing! Get ready for a day of fun competition\, family-friendly vibes\, and incredible community spirit right at the iconic OB Pier. \nGromfest is more than just a surf contest; it’s a vibrant celebration designed to provide a supportive and exciting environment for our youngest surfers (age 16 or younger\, residing in Ocean Beach\, Point Loma\, or SCSA members). This year\, the excitement is amplified as Gromfest is combined with the OBTC Crafts Fair\, offering something for everyone to enjoy on the sand! \nBeyond the waves\, this cherished event fosters environmental stewardship through a dedicated beach cleanup\, and provides valuable volunteer opportunities for our members to help make this impactful day a reality. \nMaking a Difference: Gromfest is proud to be a powerful force for good in the local community. Proceeds from the event directly benefit incredible causes\, including the Mouse Scholarship\, the Point Loma High School Surf Team\, Big Worm’s Cystic Fibrosis\, and other vital local organizations. Your participation and support directly contribute to these meaningful initiatives. \nCome early to catch the first heats at 7:00 AM sharp\, cheer on the Super Groms at 11:00 AM\, and enjoy a full day of surf stoke\, local crafts\, and unparalleled community camaraderie. \nReady to register your young surfer? Registration Link: https://www.obgromfest.com/appointments \nDon’t miss out on this cornerstone event that shapes the future of surfing and strengthens our community in San Diego!
URL:https://sdsurfinghalloffame.com/event/gromfest-2025-ob-pier-gears-up-for-youth-surfing-community-celebration/
LOCATION:OB San Diego Surf Area\, 1484 Pescadero Dr\, San Diego\, CA\, 92107\, United States
CATEGORIES:Surf Contests
END:VEVENT
BEGIN:VEVENT
DTSTART;TZID=America/Los_Angeles:20250717T080000
DTEND;TZID=America/Los_Angeles:20250717T150000
DTSTAMP:20260420T035220
CREATED:20250623T010928Z
LAST-MODIFIED:20250623T011824Z
UID:2772-1752739200-1752764400@sdsurfinghalloffame.com
SUMMARY:California State Games 2025 Youth Surfing Competition at Ocean Beach\, San Diego
DESCRIPTION:Date: Thursday\, July 17\, 2025 Location: Ocean Beach\, San Diego \nThe San Diego Surfing Hall of Fame is proud to highlight the California State Games Youth Surfing competition\, presented by National University. As an annual Olympic-style event for amateur athletes across California\, the California State Games provides a valuable platform for young surfers to showcase their skills in a spirit of friendly\, focused competition. \nThis event at San Diego’s iconic Ocean Beach offers a significant opportunity for the next generation of surfers to experience structured competition. Divisions are set for both shortboard and longboard\, catering to both boys and girls across various age groups: \n\n8 & Under (push-in allowed)\n9-12 years\n13-15 years\n16-18 years\n\nTop performers will be recognized with Gold\, Silver\, and Bronze medals for the top three finishers in each event\, acknowledging their dedication and performance. \nRegistration Details:\n\nOnline Entry Fee: $60 per event\nFinal Online Deadline: July 12\, 2025\nDay-of Entry (at the beach): $70 per event\n\nParticipation in events like the California State Games is a key part of a young surfer’s development\, fostering discipline\, sportsmanship\, and a deeper connection to the competitive side of surfing. We encourage aspiring surfers and their families to engage with this respected event. \nFor further inquiries\, please contact Surfing Director Carolyn Krammer at 760-439-0863 or carolnoceanside@cs.com.
URL:https://sdsurfinghalloffame.com/event/california-state-games-2025-youth-surfing-competition-at-ocean-beach-san-diego/
LOCATION:OB San Diego Surf Area\, 1484 Pescadero Dr\, San Diego\, CA\, 92107\, United States
CATEGORIES:Surf Contests
END:VEVENT
BEGIN:VEVENT
DTSTART;TZID=America/Los_Angeles:20250614T070000
DTEND;TZID=America/Los_Angeles:20250614T150000
DTSTAMP:20260420T035220
CREATED:20250606T155730Z
LAST-MODIFIED:20250606T155930Z
UID:2076-1749884400-1749913200@sdsurfinghalloffame.com
SUMMARY:Pacific Beach Surf Club's 2025 Longboard Contest at Tourmaline
DESCRIPTION:Date: Saturday\, June 14\, 2025 Time: 7:00 AM – 3:00 PM Location: Tourmaline Surfing Park\, Pacific Beach\, San Diego. Registration Deadline: 06-12-2025 6:00 pm. \nMark your calendars and dust off your boards! The San Diego Surfing Hall of Fame invites you to join us in celebrating a beloved local tradition: the Pacific Beach Surf Club’s 2025 Contest at the iconic Tourmaline Surfing Park. \nThis isn’t just a competition; it’s a full day packed with fun\, camaraderie\, and the pure joy of surfing. Watch as “groms to grandparents” hit the waves in friendly competition\, showcasing the incredible talent and enduring passion across all ages. \nBeyond the surf\, the good vibes will be flowing with the Bus Brothers DJs spinning vintage vinyl\, creating the perfect soundtrack for a day by the ocean. Enjoy delicious food and get ready for your chance to win big in our legendary raffles\, featuring brand new surfboards and tons of great schwag\, thanks to our record number of incredibly generous sponsors! \nBring your friends\, family\, and your biggest smiles down to Tourmaline. This is a fantastic opportunity to immerse yourself in our local PB community\, share the stoke\, and enjoy the unique spirit that makes San Diego surfing so special. We hope surfing enriches your life.
URL:https://sdsurfinghalloffame.com/event/pacific-beach-surf-clubs-2025-contest-at-tourmaline/
LOCATION:600 Tourmaline Street\, San Diego\, CA 92109\, 600 Tourmaline Street\, San Diego\, CA\, 92109\, United States
CATEGORIES:San Diego Surfing Events,Surf Contests
END:VEVENT
END:VCALENDAR